BEGIN:VCALENDAR
VERSION:2.0
PRODID:WorCo
X-WR-CALNAME:Mother’s Day Cocktail Mixing Class at Windmill Creek Winery
BEGIN:VEVENT
UID:352142026-05-06
DTSTART:20260506T220000Z
SEQUENCE:0
TRANSP:OPAQUE
DTEND:20260506T233000Z
LOCATION:11206 Worcester Highway\nBerlin Maryland 21811
X-APPLE-STRUCTURED-LOCATION;VALUE=URI;X-ADDRESS=11206 Worcester Highway\nBe
 rlin Maryland 21811;X-APPLE-RADIUS=49;X-TITLE=11206 Worcester Highway:geo:
 38.385372,-75.202045
GEO:38.385372;-75.202045
SUMMARY:Mother’s Day Cocktail Mixing Class at Windmill Creek Winery
CLASS:PUBLIC
DESCRIPTION:Celebrate Mother’s Day with a hands-on cocktail experience at
 \nWindmill Creek.\n\nGuests will be greeted with a glass of bubbly before 
 diving into an\ninteractive cocktail mixing class led by our team. This wo
 rkshop\nincludes the opportunity to create three craft cocktails and one\n
 mocktail\, with step-by-step guidance throughout the session.\n\nWhether y
 ou’re celebrating with friends or treating Mom to something\ndifferent\,
  this class offers a relaxed and engaging way to kick off\nMother’s Day 
 week.\n\nSpots are limited. Tickets required. ( $40)\n\nGet Tickets\n[http
 s://windmillcreekvineyard.com/event/mothers-day-cocktail-mixing-class/]\n\
 n \n
X-ALT-DESC;FMTTYPE=text/html:<p>Celebrate Mother&rsquo\;s Day with a hands-
 on cocktail experience at Windmill Creek.<br />\n<br />\nGuests will be gr
 eeted with a glass of bubbly before diving into an interactive cocktail mi
 xing class led by our team. This workshop includes the opportunity to crea
 te three craft cocktails and one mocktail\, with step-by-step guidance thr
 oughout the session.<br />\n<br />\nWhether you&rsquo\;re celebrating with
  friends or treating Mom to something different\, this class offers a rela
 xed and engaging way to kick off Mother&rsquo\;s Day week.<br />\n<br />\n
 Spots are limited. Tickets required. ( $40)</p>\n\n<p><a href=\"https://wi
 ndmillcreekvineyard.com/event/mothers-day-cocktail-mixing-class/\" target=
 \"_blank\">Get Tickets</a></p>\n\n<p>&nbsp\;</p>
DTSTAMP:20260423T112834Z
END:VEVENT
END:VCALENDAR