BEGIN:VCALENDAR
VERSION:2.0
PRODID:WorCo
X-WR-CALNAME:Mother’s Day Exclusive Wine Tasting & Tour at Windmill Creek
  Winery
BEGIN:VEVENT
UID:352182026-05-10
DTSTART:20260510T160000Z
SEQUENCE:0
TRANSP:OPAQUE
DTEND:20260510T200000Z
LOCATION:11206 Worcester Highway\nBerlin Maryland 21811
X-APPLE-STRUCTURED-LOCATION;VALUE=URI;X-ADDRESS=11206 Worcester Highway\nBe
 rlin Maryland 21811;X-APPLE-RADIUS=49;X-TITLE=11206 Worcester Highway:geo:
 38.385372,-75.202045
GEO:38.385372;-75.202045
SUMMARY:Mother’s Day Exclusive Wine Tasting & Tour at Windmill Creek Wine
 ry
CLASS:PUBLIC
DESCRIPTION:Celebrate Mother’s Day with an intimate and elevated experien
 ce at\nWindmill Creek.\n\nThis exclusive event includes a private tour of 
 the historic Mariner\nHouse\, followed by a guided tasting of five of our 
 wines. Each guest\nwill also enjoy a personal charcuterie to complement th
 e tasting.\n\nWith limited availability and small group sizes\, this exper
 ience\noffers a more personal and relaxed way to spend Mother’s Day at t
 he\nvineyard.\n\nAvailable tour times: 12:00 PM\, 2:00 PM\, and 4:00 PM.\n
 \nReservations are required.\n[https://windmillcreekvineyard.com/event/mot
 hers-day-exclusive-wine-tasting-tour/]\nLimited to 12 guests per time slot
 .\n\n \n
X-ALT-DESC;FMTTYPE=text/html:<p>Celebrate Mother&rsquo\;s Day with an intim
 ate and elevated experience at Windmill Creek.<br />\n<br />\nThis exclusi
 ve event includes a private tour of the historic Mariner House\, followed 
 by a guided tasting of five of our wines. Each guest will also enjoy a per
 sonal charcuterie to complement the tasting.<br />\n<br />\nWith limited a
 vailability and small group sizes\, this experience offers a more personal
  and relaxed way to spend Mother&rsquo\;s Day at the vineyard.<br />\n<br 
 />\nAvailable tour times: 12:00 PM\, 2:00 PM\, and 4:00 PM.<br />\n<br />\
 n<a href=\"https://windmillcreekvineyard.com/event/mothers-day-exclusive-w
 ine-tasting-tour/\" target=\"_blank\">Reservations are required.</a> Limit
 ed to 12 guests per time slot.</p>\n\n<p>&nbsp\;</p>
DTSTAMP:20260423T112825Z
END:VEVENT
END:VCALENDAR