BEGIN:VCALENDAR
VERSION:2.0
PRODID:WorCo
X-WR-CALNAME:Retro Rewind
BEGIN:VEVENT
UID:351902026-04-24
DTSTART:20260424T210000Z
SEQUENCE:0
TRANSP:OPAQUE
DTEND:20260425T000000Z
SUMMARY:Retro Rewind
CLASS:PUBLIC
DESCRIPTION:Get ready to throw it back at Retro Rewind: 80’s & 90’s Nig
 ht!\n🎶✨\nJoin us in Downtown Pocomoke City for April’s 4th Friday S
 treet\nFestival\, featuring LIVE music by Blue Milkshake and all your favo
 rite\nthrowback hits from the 80’s & 90’s!\n🗓 Friday\, April 24\, 2
 026\n⏰ 5:00 PM – 8:00 PM\n📍 Downtown Pocomoke City\nBreak out your 
 neon\, denim\, leg warmers\, and big hair—this is your\ntime to shine! 
 💃🕺\n🔥 Event Highlights:\n• 🎤 Live Music by Blue Milkshake\n
 • 🕺 80’s & 90’s Costume Contest (Prizes Awarded!)\n• 🛍 Stree
 t Vendors\n• 🍔 Food\, Beer & Wine\n• 🎈 Kids Activities\n👏 Spo
 nsored by Launchpad Arcade\nBring your friends\, your family\, and your be
 st retro look—this is\none night you won’t want to miss!\n
X-ALT-DESC;FMTTYPE=text/html:<p>Get ready to throw it back at Retro Rewind:
  80&rsquo\;s &amp\; 90&rsquo\;s Night! 🎶✨<br />\nJoin us in Downtown 
 Pocomoke City for April&rsquo\;s 4th Friday Street Festival\, featuring LI
 VE music by Blue Milkshake and all your favorite throwback hits from the 8
 0&rsquo\;s &amp\; 90&rsquo\;s!<br />\n🗓 Friday\, April 24\, 2026<br />\
 n⏰ 5:00 PM &ndash\; 8:00 PM<br />\n📍 Downtown Pocomoke City<br />\nBr
 eak out your neon\, denim\, leg warmers\, and big hair&mdash\;this is your
  time to shine! 💃🕺<br />\n🔥 Event Highlights:<br />\n&bull\; 🎤
  Live Music by Blue Milkshake<br />\n&bull\; 🕺 80&rsquo\;s &amp\; 90&rs
 quo\;s Costume Contest (Prizes Awarded!)<br />\n&bull\; 🛍 Street Vendor
 s<br />\n&bull\; 🍔 Food\, Beer &amp\; Wine<br />\n&bull\; 🎈 Kids Act
 ivities<br />\n👏 Sponsored by Launchpad Arcade<br />\nBring your friend
 s\, your family\, and your best retro look&mdash\;this is one night you wo
 n&rsquo\;t want to miss!</p>
DTSTAMP:20260424T143159Z
END:VEVENT
END:VCALENDAR