BEGIN:VCALENDAR
VERSION:2.0
PRODID:daysinnboardwalk.exploreoc.com
X-WR-CALNAME:1/2 Price Jerk Chicken and Steamed Shrimp at Seacrets
BEGIN:VEVENT
UID:1412026-04-192026-04-19
DTSTART:20260419T200000Z
SEQUENCE:0
TRANSP:OPAQUE
DTEND:20260419T200000Z
LOCATION:117 49th St\nOcean City MD 21842
X-APPLE-STRUCTURED-LOCATION;VALUE=URI;X-ADDRESS=117 49th St\nOcean City MD 
 21842;X-APPLE-RADIUS=49;X-TITLE=117 49th St:geo:38.374561,-75.071571
GEO:38.374561;-75.071571
SUMMARY:1/2 Price Jerk Chicken and Steamed Shrimp at Seacrets
CLASS:PUBLIC
DESCRIPTION:1/2 PRICE SPECIALS\n\n_Sunday through Thursday ~ _\n\nJerk Chi
 cken\, Jamaican French Fries\,  and Steamed Shrimp \n
X-ALT-DESC;FMTTYPE=text/html:<p><strong>1/2 Price Specials</strong><br />\n
 <br />\n<em>Sunday through Thursday ~&nbsp\;</em></p>\n\n<p>Jerk Chicken\,
  Jamaican French Fries\,&nbsp\; and Steamed Shrimp&nbsp\;</p>
DTSTAMP:20260423T135250Z
END:VEVENT
BEGIN:VEVENT
UID:1412026-04-202026-04-20
DTSTART:20260420T200000Z
SEQUENCE:0
TRANSP:OPAQUE
DTEND:20260420T200000Z
LOCATION:117 49th St\nOcean City MD 21842
X-APPLE-STRUCTURED-LOCATION;VALUE=URI;X-ADDRESS=117 49th St\nOcean City MD 
 21842;X-APPLE-RADIUS=49;X-TITLE=117 49th St:geo:38.374561,-75.071571
GEO:38.374561;-75.071571
SUMMARY:1/2 Price Jerk Chicken and Steamed Shrimp at Seacrets
CLASS:PUBLIC
DESCRIPTION:1/2 PRICE SPECIALS\n\n_Sunday through Thursday ~ _\n\nJerk Chi
 cken\, Jamaican French Fries\,  and Steamed Shrimp \n
X-ALT-DESC;FMTTYPE=text/html:<p><strong>1/2 Price Specials</strong><br />\n
 <br />\n<em>Sunday through Thursday ~&nbsp\;</em></p>\n\n<p>Jerk Chicken\,
  Jamaican French Fries\,&nbsp\; and Steamed Shrimp&nbsp\;</p>
DTSTAMP:20260423T135250Z
END:VEVENT
BEGIN:VEVENT
UID:1412026-04-212026-04-21
DTSTART:20260421T200000Z
SEQUENCE:0
TRANSP:OPAQUE
DTEND:20260421T200000Z
LOCATION:117 49th St\nOcean City MD 21842
X-APPLE-STRUCTURED-LOCATION;VALUE=URI;X-ADDRESS=117 49th St\nOcean City MD 
 21842;X-APPLE-RADIUS=49;X-TITLE=117 49th St:geo:38.374561,-75.071571
GEO:38.374561;-75.071571
SUMMARY:1/2 Price Jerk Chicken and Steamed Shrimp at Seacrets
CLASS:PUBLIC
DESCRIPTION:1/2 PRICE SPECIALS\n\n_Sunday through Thursday ~ _\n\nJerk Chi
 cken\, Jamaican French Fries\,  and Steamed Shrimp \n
X-ALT-DESC;FMTTYPE=text/html:<p><strong>1/2 Price Specials</strong><br />\n
 <br />\n<em>Sunday through Thursday ~&nbsp\;</em></p>\n\n<p>Jerk Chicken\,
  Jamaican French Fries\,&nbsp\; and Steamed Shrimp&nbsp\;</p>
DTSTAMP:20260423T135250Z
END:VEVENT
BEGIN:VEVENT
UID:1412026-04-222026-04-22
DTSTART:20260422T200000Z
SEQUENCE:0
TRANSP:OPAQUE
DTEND:20260422T200000Z
LOCATION:117 49th St\nOcean City MD 21842
X-APPLE-STRUCTURED-LOCATION;VALUE=URI;X-ADDRESS=117 49th St\nOcean City MD 
 21842;X-APPLE-RADIUS=49;X-TITLE=117 49th St:geo:38.374561,-75.071571
GEO:38.374561;-75.071571
SUMMARY:1/2 Price Jerk Chicken and Steamed Shrimp at Seacrets
CLASS:PUBLIC
DESCRIPTION:1/2 PRICE SPECIALS\n\n_Sunday through Thursday ~ _\n\nJerk Chi
 cken\, Jamaican French Fries\,  and Steamed Shrimp \n
X-ALT-DESC;FMTTYPE=text/html:<p><strong>1/2 Price Specials</strong><br />\n
 <br />\n<em>Sunday through Thursday ~&nbsp\;</em></p>\n\n<p>Jerk Chicken\,
  Jamaican French Fries\,&nbsp\; and Steamed Shrimp&nbsp\;</p>
DTSTAMP:20260423T135250Z
END:VEVENT
BEGIN:VEVENT
UID:1412026-04-232026-04-23
DTSTART:20260423T200000Z
SEQUENCE:0
TRANSP:OPAQUE
DTEND:20260423T200000Z
LOCATION:117 49th St\nOcean City MD 21842
X-APPLE-STRUCTURED-LOCATION;VALUE=URI;X-ADDRESS=117 49th St\nOcean City MD 
 21842;X-APPLE-RADIUS=49;X-TITLE=117 49th St:geo:38.374561,-75.071571
GEO:38.374561;-75.071571
SUMMARY:1/2 Price Jerk Chicken and Steamed Shrimp at Seacrets
CLASS:PUBLIC
DESCRIPTION:1/2 PRICE SPECIALS\n\n_Sunday through Thursday ~ _\n\nJerk Chi
 cken\, Jamaican French Fries\,  and Steamed Shrimp \n
X-ALT-DESC;FMTTYPE=text/html:<p><strong>1/2 Price Specials</strong><br />\n
 <br />\n<em>Sunday through Thursday ~&nbsp\;</em></p>\n\n<p>Jerk Chicken\,
  Jamaican French Fries\,&nbsp\; and Steamed Shrimp&nbsp\;</p>
DTSTAMP:20260423T135250Z
END:VEVENT
BEGIN:VEVENT
UID:1412026-04-262026-04-26
DTSTART:20260426T200000Z
SEQUENCE:0
TRANSP:OPAQUE
DTEND:20260426T200000Z
LOCATION:117 49th St\nOcean City MD 21842
X-APPLE-STRUCTURED-LOCATION;VALUE=URI;X-ADDRESS=117 49th St\nOcean City MD 
 21842;X-APPLE-RADIUS=49;X-TITLE=117 49th St:geo:38.374561,-75.071571
GEO:38.374561;-75.071571
SUMMARY:1/2 Price Jerk Chicken and Steamed Shrimp at Seacrets
CLASS:PUBLIC
DESCRIPTION:1/2 PRICE SPECIALS\n\n_Sunday through Thursday ~ _\n\nJerk Chi
 cken\, Jamaican French Fries\,  and Steamed Shrimp \n
X-ALT-DESC;FMTTYPE=text/html:<p><strong>1/2 Price Specials</strong><br />\n
 <br />\n<em>Sunday through Thursday ~&nbsp\;</em></p>\n\n<p>Jerk Chicken\,
  Jamaican French Fries\,&nbsp\; and Steamed Shrimp&nbsp\;</p>
DTSTAMP:20260423T135250Z
END:VEVENT
BEGIN:VEVENT
UID:1412026-04-272026-04-27
DTSTART:20260427T200000Z
SEQUENCE:0
TRANSP:OPAQUE
DTEND:20260427T200000Z
LOCATION:117 49th St\nOcean City MD 21842
X-APPLE-STRUCTURED-LOCATION;VALUE=URI;X-ADDRESS=117 49th St\nOcean City MD 
 21842;X-APPLE-RADIUS=49;X-TITLE=117 49th St:geo:38.374561,-75.071571
GEO:38.374561;-75.071571
SUMMARY:1/2 Price Jerk Chicken and Steamed Shrimp at Seacrets
CLASS:PUBLIC
DESCRIPTION:1/2 PRICE SPECIALS\n\n_Sunday through Thursday ~ _\n\nJerk Chi
 cken\, Jamaican French Fries\,  and Steamed Shrimp \n
X-ALT-DESC;FMTTYPE=text/html:<p><strong>1/2 Price Specials</strong><br />\n
 <br />\n<em>Sunday through Thursday ~&nbsp\;</em></p>\n\n<p>Jerk Chicken\,
  Jamaican French Fries\,&nbsp\; and Steamed Shrimp&nbsp\;</p>
DTSTAMP:20260423T135250Z
END:VEVENT
BEGIN:VEVENT
UID:1412026-04-282026-04-28
DTSTART:20260428T200000Z
SEQUENCE:0
TRANSP:OPAQUE
DTEND:20260428T200000Z
LOCATION:117 49th St\nOcean City MD 21842
X-APPLE-STRUCTURED-LOCATION;VALUE=URI;X-ADDRESS=117 49th St\nOcean City MD 
 21842;X-APPLE-RADIUS=49;X-TITLE=117 49th St:geo:38.374561,-75.071571
GEO:38.374561;-75.071571
SUMMARY:1/2 Price Jerk Chicken and Steamed Shrimp at Seacrets
CLASS:PUBLIC
DESCRIPTION:1/2 PRICE SPECIALS\n\n_Sunday through Thursday ~ _\n\nJerk Chi
 cken\, Jamaican French Fries\,  and Steamed Shrimp \n
X-ALT-DESC;FMTTYPE=text/html:<p><strong>1/2 Price Specials</strong><br />\n
 <br />\n<em>Sunday through Thursday ~&nbsp\;</em></p>\n\n<p>Jerk Chicken\,
  Jamaican French Fries\,&nbsp\; and Steamed Shrimp&nbsp\;</p>
DTSTAMP:20260423T135250Z
END:VEVENT
BEGIN:VEVENT
UID:1412026-04-292026-04-29
DTSTART:20260429T200000Z
SEQUENCE:0
TRANSP:OPAQUE
DTEND:20260429T200000Z
LOCATION:117 49th St\nOcean City MD 21842
X-APPLE-STRUCTURED-LOCATION;VALUE=URI;X-ADDRESS=117 49th St\nOcean City MD 
 21842;X-APPLE-RADIUS=49;X-TITLE=117 49th St:geo:38.374561,-75.071571
GEO:38.374561;-75.071571
SUMMARY:1/2 Price Jerk Chicken and Steamed Shrimp at Seacrets
CLASS:PUBLIC
DESCRIPTION:1/2 PRICE SPECIALS\n\n_Sunday through Thursday ~ _\n\nJerk Chi
 cken\, Jamaican French Fries\,  and Steamed Shrimp \n
X-ALT-DESC;FMTTYPE=text/html:<p><strong>1/2 Price Specials</strong><br />\n
 <br />\n<em>Sunday through Thursday ~&nbsp\;</em></p>\n\n<p>Jerk Chicken\,
  Jamaican French Fries\,&nbsp\; and Steamed Shrimp&nbsp\;</p>
DTSTAMP:20260423T135250Z
END:VEVENT
BEGIN:VEVENT
UID:1412026-04-302026-04-30
DTSTART:20260430T200000Z
SEQUENCE:0
TRANSP:OPAQUE
DTEND:20260430T200000Z
LOCATION:117 49th St\nOcean City MD 21842
X-APPLE-STRUCTURED-LOCATION;VALUE=URI;X-ADDRESS=117 49th St\nOcean City MD 
 21842;X-APPLE-RADIUS=49;X-TITLE=117 49th St:geo:38.374561,-75.071571
GEO:38.374561;-75.071571
SUMMARY:1/2 Price Jerk Chicken and Steamed Shrimp at Seacrets
CLASS:PUBLIC
DESCRIPTION:1/2 PRICE SPECIALS\n\n_Sunday through Thursday ~ _\n\nJerk Chi
 cken\, Jamaican French Fries\,  and Steamed Shrimp \n
X-ALT-DESC;FMTTYPE=text/html:<p><strong>1/2 Price Specials</strong><br />\n
 <br />\n<em>Sunday through Thursday ~&nbsp\;</em></p>\n\n<p>Jerk Chicken\,
  Jamaican French Fries\,&nbsp\; and Steamed Shrimp&nbsp\;</p>
DTSTAMP:20260423T135250Z
END:VEVENT
END:VCALENDAR